BEGIN:VCALENDAR
VERSION:2.0
PRODID:-//Lakeside School - ECPv6.15.20//NONSGML v1.0//EN
CALSCALE:GREGORIAN
METHOD:PUBLISH
X-ORIGINAL-URL:https://www.lakeside.herts.sch.uk
X-WR-CALDESC:Events for Lakeside School
REFRESH-INTERVAL;VALUE=DURATION:PT1H
X-Robots-Tag:noindex
X-PUBLISHED-TTL:PT1H
BEGIN:VTIMEZONE
TZID:UTC
BEGIN:STANDARD
TZOFFSETFROM:+0000
TZOFFSETTO:+0000
TZNAME:UTC
DTSTART:20220101T000000
END:STANDARD
END:VTIMEZONE
BEGIN:VEVENT
DTSTART;TZID=UTC:20230506T000000
DTEND;TZID=UTC:20230506T000000
DTSTAMP:20260421T125817
CREATED:20231106T133057Z
LAST-MODIFIED:20231106T133057Z
UID:1052-1683331200-1683331200@www.lakeside.herts.sch.uk
SUMMARY:Pupils return to school
DESCRIPTION:
URL:https://www.lakeside.herts.sch.uk/event/pupils-return-to-school-5/
END:VEVENT
END:VCALENDAR