BEGIN:VCALENDAR
VERSION:2.0
PRODID:-//Lakeside School - ECPv6.15.20//NONSGML v1.0//EN
CALSCALE:GREGORIAN
METHOD:PUBLISH
X-ORIGINAL-URL:https://www.lakeside.herts.sch.uk
X-WR-CALDESC:Events for Lakeside School
REFRESH-INTERVAL;VALUE=DURATION:PT1H
X-Robots-Tag:noindex
X-PUBLISHED-TTL:PT1H
BEGIN:VTIMEZONE
TZID:UTC
BEGIN:STANDARD
TZOFFSETFROM:+0000
TZOFFSETTO:+0000
TZNAME:UTC
DTSTART:20220101T000000
END:STANDARD
END:VTIMEZONE
BEGIN:VEVENT
DTSTART;TZID=UTC:20230920T170000
DTEND;TZID=UTC:20230920T190000
DTSTAMP:20260419T230211
CREATED:20230711T174032Z
LAST-MODIFIED:20230711T174032Z
UID:691-1695229200-1695236400@www.lakeside.herts.sch.uk
SUMMARY:Parents Social Evening
DESCRIPTION:
URL:https://www.lakeside.herts.sch.uk/event/parents-social-evening/
END:VEVENT
END:VCALENDAR